BEGIN:VCALENDAR
VERSION:2.0
PRODID:-//ChurchDev//Events//EN
CALSCALE:GREGORIAN
METHOD:PUBLISH
BEGIN:VEVENT
UID:2978-20260426@www.stmarksepiscopalwilmington.org
SUMMARY:157th Anniversary Service
DTSTART:20260426T150000Z
DTEND:20260426T160000Z
DESCRIPTION:https://www.stmarksepiscopalwilmington.org/events/157th-anniversary-service/
LOCATION:600 Grace Street Wilmington NC 28401
URL:https://www.stmarksepiscopalwilmington.org/events/157th-anniversary-service/
DTSTAMP:20260419T211951Z
END:VEVENT
END:VCALENDAR
