BEGIN:VCALENDAR
VERSION:2.0
PRODID:-//ChurchDev//Events//EN
CALSCALE:GREGORIAN
METHOD:PUBLISH
BEGIN:VEVENT
UID:2977-20260425@www.stmarksepiscopalwilmington.org
SUMMARY:Church Anniversary Fun Day
DTSTART;VALUE=DATE:20260425
DTEND;VALUE=DATE:20260426
DESCRIPTION:https://www.stmarksepiscopalwilmington.org/events/church-anniversary-fun-day/
LOCATION:600 Grace Street Wilmington NC 28401
URL:https://www.stmarksepiscopalwilmington.org/events/church-anniversary-fun-day/
DTSTAMP:20260419T211938Z
END:VEVENT
END:VCALENDAR
