BEGIN:VCALENDAR
VERSION:2.0
PRODID:-//ChurchDev//Events//EN
CALSCALE:GREGORIAN
METHOD:PUBLISH
BEGIN:VEVENT
UID:2976-20260424@www.stmarksepiscopalwilmington.org
SUMMARY:Anniversary Jazz Night
DTSTART:20260424T230000Z
DTEND:20260425T000000Z
DESCRIPTION:https://www.stmarksepiscopalwilmington.org/events/anniversary-jazz-night/
LOCATION:600 Grace Street Wilmington NC 28401
URL:https://www.stmarksepiscopalwilmington.org/events/anniversary-jazz-night/
DTSTAMP:20260419T211842Z
END:VEVENT
END:VCALENDAR
