BEGIN:VCALENDAR
VERSION:2.0
PRODID:-//ChurchDev//Events//EN
CALSCALE:GREGORIAN
METHOD:PUBLISH
BEGIN:VEVENT
UID:2975-20260405@www.stmarksepiscopalwilmington.org
SUMMARY:Easter Sunday
DTSTART;VALUE=DATE:20260405
DTEND;VALUE=DATE:20260406
DESCRIPTION:https://www.stmarksepiscopalwilmington.org/events/easter-sunday/
LOCATION:600 Grace Street Wilmington NC 28401
URL:https://www.stmarksepiscopalwilmington.org/events/easter-sunday/
DTSTAMP:20260419T212010Z
END:VEVENT
END:VCALENDAR
