BEGIN:VCALENDAR
VERSION:2.0
PRODID:-//ChurchDev//Events//EN
CALSCALE:GREGORIAN
METHOD:PUBLISH
BEGIN:VEVENT
UID:2923-20250803@www.stmarksepiscopalwilmington.org
SUMMARY:Sunday School
DTSTART:20250803T140000Z
DTEND:20250803T150000Z
DESCRIPTION:https://www.stmarksepiscopalwilmington.org/events/adult-sunday-school/
LOCATION:600 Grace Street Wilmington NC 28401
URL:https://www.stmarksepiscopalwilmington.org/events/adult-sunday-school/
DTSTAMP:20260419T211949Z
END:VEVENT
END:VCALENDAR
