BEGIN:VCALENDAR
VERSION:2.0
PRODID:-//ChurchDev//Events//EN
CALSCALE:GREGORIAN
METHOD:PUBLISH
BEGIN:VEVENT
UID:2922-20250803@www.stmarksepiscopalwilmington.org
SUMMARY:Church Service
DTSTART:20250803T150000Z
DTEND:20250803T160000Z
DESCRIPTION:Zoom optional\\n\\nhttps://www.stmarksepiscopalwilmington.org/events/church-service/
LOCATION:600 Grace Street Wilmington NC 28401
URL:https://www.stmarksepiscopalwilmington.org/events/church-service/
DTSTAMP:20260419T212016Z
END:VEVENT
END:VCALENDAR
